BEGIN:VCALENDAR
PRODID:-//http://statistik.d-u-v.org//PHP ultracalendar//EN
VERSION:2.0
METHOD:PUBLISH
BEGIN:VEVENT
DTSTAMP:20260420T035218
CREATED:20231104T112950
UID:1776657138.0.93248400-102187@statistik.d-u-v.org
SUMMARY:Euchidios Hyper Athlos Delphi-Plataea-Delphi
DESCRIPTION: Euchidios Hyper Athlos Delphi-Plataea-Delphi\n
  Ritsa Antonopoulou\n
  euchidiosathlos[at]yahoo.gr
DTSTART:20240517T070000
DTEND:20240518T190000
LOCATION:Delphi\, GRE
URL:http://www.euchidiosathlos.gr
CATEGORIES:Ultramarathon
CONTACT:Ritsa Antonopoulou
CLASS:PUBLIC
PRIORITY:5
TRANSP:OPAQUE
END:VEVENT
END:VCALENDAR
