BEGIN:VCALENDAR
PRODID:-//http://statistik.d-u-v.org//PHP ultracalendar//EN
VERSION:2.0
METHOD:PUBLISH
BEGIN:VEVENT
DTSTAMP:20260422T194013
CREATED:20231031T063821
UID:1776886813.0.98600300-102105@statistik.d-u-v.org
SUMMARY:Leinetal-Ultra Winter Edition
DESCRIPTION: Leinetal-Ultra Winter Edition\n
  \n
  michaelkiene[at]gmx.de
DTSTART:20240127T080000
DTEND:00000000T235900
LOCATION:Northeim\, GER
URL:https://my.raceresult.com/268028/info
CATEGORIES:Ultramarathon
CONTACT:
CLASS:PUBLIC
PRIORITY:5
TRANSP:OPAQUE
END:VEVENT
END:VCALENDAR
