BEGIN:VCALENDAR
PRODID:-//http://statistik.d-u-v.org//PHP ultracalendar//EN
VERSION:2.0
METHOD:PUBLISH
BEGIN:VEVENT
DTSTAMP:20260424T172633
CREATED:20231031T154445
UID:1777051593.0.17872800-102098@statistik.d-u-v.org
SUMMARY:Ultramaraton Madre de Ciudades - 6h
DESCRIPTION: Ultramaraton Madre de Ciudades - 6h\n
  \n
  ultramadredeciudades[at]gmail.com
DTSTART:20231029T000000
DTEND:00000000T235900
LOCATION:Santiago del Estero\, ARG
URL:https://www.facebook.com/Ultramaraton-Madre-de-Ciudades-113071947497374/
CATEGORIES:Ultramarathon
CONTACT:
CLASS:PUBLIC
PRIORITY:5
TRANSP:OPAQUE
END:VEVENT
END:VCALENDAR
