BEGIN:VCALENDAR
PRODID:-//http://statistik.d-u-v.org//PHP ultracalendar//EN
VERSION:2.0
METHOD:PUBLISH
BEGIN:VEVENT
DTSTAMP:20260425T180037
CREATED:20231028T202114
UID:1777140037.0.19691700-102049@statistik.d-u-v.org
SUMMARY:La Chouffe Trail 70km
DESCRIPTION: La Chouffe Trail 70km\n
  \n
  
DTSTART:20240706T080000
DTEND:00000000T235900
LOCATION:Houffalize\, BEL
URL:https://www.passionforsports.eu/fr-la-chouffe-trail?count=2
CATEGORIES:Ultramarathon
CONTACT:
CLASS:PUBLIC
PRIORITY:5
TRANSP:OPAQUE
END:VEVENT
END:VCALENDAR
