BEGIN:VCALENDAR
PRODID:-//http://statistik.d-u-v.org//PHP ultracalendar//EN
VERSION:2.0
METHOD:PUBLISH
BEGIN:VEVENT
DTSTAMP:20260420T053140
CREATED:20231028T194753
UID:1776663100.0.59450800-102043@statistik.d-u-v.org
SUMMARY:The Longest Day 100km
DESCRIPTION: The Longest Day 100km\n
  \n
  
DTSTART:20240608T090000
DTEND:20240609T170000
LOCATION:Spa\, BEL
URL:https://passionforsports.eu/en-thelongestdaytrail?count=1
CATEGORIES:Ultramarathon
CONTACT:
CLASS:PUBLIC
PRIORITY:5
TRANSP:OPAQUE
END:VEVENT
END:VCALENDAR
