BEGIN:VCALENDAR
PRODID:-//http://statistik.d-u-v.org//PHP ultracalendar//EN
VERSION:2.0
METHOD:PUBLISH
BEGIN:VEVENT
DTSTAMP:20260423T035939
CREATED:20231028T171134
UID:1776916779.0.38580000-102032@statistik.d-u-v.org
SUMMARY:Oscars 100 Hut2Hut
DESCRIPTION: Oscars 100 Hut2Hut\n
  \n
  info[at]oscars100.com.au
DTSTART:20240216T060000
DTEND:20240218T120000
LOCATION:Mount Buller, VIC\, AUS
URL:http://www.hut2hut.oscars100.com.au
CATEGORIES:Ultramarathon
CONTACT:
CLASS:PUBLIC
PRIORITY:5
TRANSP:OPAQUE
END:VEVENT
END:VCALENDAR
