BEGIN:VCALENDAR
PRODID:-//http://statistik.d-u-v.org//PHP ultracalendar//EN
VERSION:2.0
METHOD:PUBLISH
BEGIN:VEVENT
DTSTAMP:20260423T014824
CREATED:20231026T205410
UID:1776908904.0.26635700-102018@statistik.d-u-v.org
SUMMARY:Ultra Bremerhaven-Bremen-Nord
DESCRIPTION: Ultra Bremerhaven-Bremen-Nord\n
  Olaf Häsler\n
  olaf.haesler[at]nord-com.net
DTSTART:20240914T080000
DTEND:00000000T235900
LOCATION:Bremerhaven\, GER
URL:https://my.raceresult.com/267627/
CATEGORIES:Ultramarathon
CONTACT:Olaf Häsler
CLASS:PUBLIC
PRIORITY:5
TRANSP:OPAQUE
END:VEVENT
END:VCALENDAR
