BEGIN:VCALENDAR
PRODID:-//http://statistik.d-u-v.org//PHP ultracalendar//EN
VERSION:2.0
METHOD:PUBLISH
BEGIN:VEVENT
DTSTAMP:20260419T183243
CREATED:20231027T154053
UID:1776623563.0.04121800-102013@statistik.d-u-v.org
SUMMARY:High Atlas Ultra Trail
DESCRIPTION: High Atlas Ultra Trail\n
  Kaoutar Bendoumou\n
  kaoutar[at]hautmorocco.com
DTSTART:20230603T080000
DTEND:20230604T020000
LOCATION:Imlil\, MAR
URL:http://www.hautmorocco.com/
CATEGORIES:Ultramarathon
CONTACT:Kaoutar Bendoumou
CLASS:PUBLIC
PRIORITY:5
TRANSP:OPAQUE
END:VEVENT
END:VCALENDAR
