BEGIN:VCALENDAR
PRODID:-//http://statistik.d-u-v.org//PHP ultracalendar//EN
VERSION:2.0
METHOD:PUBLISH
BEGIN:VEVENT
DTSTAMP:20260420T052240
CREATED:20231024T070031
UID:1776662560.0.38427700-101966@statistik.d-u-v.org
SUMMARY:Sri Chinmoy 100km Road Race Canberra 
DESCRIPTION: Sri Chinmoy 100km Road Race Canberra \n
  Prachar Stegemann\n
  
DTSTART:20240224T170000
DTEND:00000000T235900
LOCATION:Canberra, ACT\, AUS
URL:https://au.srichinmoyraces.org/100k-road
CATEGORIES:Ultramarathon
CONTACT:Prachar Stegemann
CLASS:PUBLIC
PRIORITY:5
TRANSP:OPAQUE
END:VEVENT
END:VCALENDAR
