BEGIN:VCALENDAR
PRODID:-//http://statistik.d-u-v.org//PHP ultracalendar//EN
VERSION:2.0
METHOD:PUBLISH
BEGIN:VEVENT
DTSTAMP:20260423T020225
CREATED:20110226T154905
UID:1776909745.0.17651500-10196@statistik.d-u-v.org
SUMMARY:Winona Lake 50 Mile Trail Run
DESCRIPTION: Winona Lake 50 Mile Trail Run\n
  \n
  james[at]planetadventurerace.com
DTSTART:20110409T143000
DTEND:00000000T235900
LOCATION:Winona Lake, IN\, USA
URL:http://planetadventurerace.com/trail/winona/index.shtml
CATEGORIES:Ultramarathon
CONTACT:
CLASS:PUBLIC
PRIORITY:5
TRANSP:OPAQUE
END:VEVENT
END:VCALENDAR
