BEGIN:VCALENDAR
PRODID:-//http://statistik.d-u-v.org//PHP ultracalendar//EN
VERSION:2.0
METHOD:PUBLISH
BEGIN:VEVENT
DTSTAMP:20260424T124503
CREATED:20231021T201415
UID:1777034703.0.24255200-101937@statistik.d-u-v.org
SUMMARY:Canfranc-Canfranc Ultra 45 Kms
DESCRIPTION: Canfranc-Canfranc Ultra 45 Kms\n
  Alex Varela\n
  info[at]canfranccanfranc.com
DTSTART:20230908T080000
DTEND:00000000T235900
LOCATION:Canfranc-Estacion\, ESP
URL:https://canfranccanfranc.com/
CATEGORIES:Ultramarathon
CONTACT:Alex Varela
CLASS:PUBLIC
PRIORITY:5
TRANSP:OPAQUE
END:VEVENT
END:VCALENDAR
