BEGIN:VCALENDAR
PRODID:-//http://statistik.d-u-v.org//PHP ultracalendar//EN
VERSION:2.0
METHOD:PUBLISH
BEGIN:VEVENT
DTSTAMP:20260423T015010
CREATED:20231019T050227
UID:1776909010.0.56741600-101821@statistik.d-u-v.org
SUMMARY:TUR Tour of East TW Stage Race
DESCRIPTION: TUR Tour of East TW Stage Race\n
  \n
  
DTSTART:20231006T040000
DTEND:20231009T200000
LOCATION:Guanshan Township\, TPE
URL:https://www.facebook.com/events/1399870070764479/?acontext=%7B%22ref%22%3A%2252%22%2C%22action_history%22%3A%22[%7B%5C%22surface%5C%22%3A%5C%22share_link%5C%22%2C%5C%22mechanism%5C%22%3A%5C%22share_link%5C%22%2C%5C%22extra_data%5C%22%3A%7B%5C%22invite_lin
CATEGORIES:Ultramarathon
CONTACT:
CLASS:PUBLIC
PRIORITY:5
TRANSP:OPAQUE
END:VEVENT
END:VCALENDAR
