BEGIN:VCALENDAR
PRODID:-//http://statistik.d-u-v.org//PHP ultracalendar//EN
VERSION:2.0
METHOD:PUBLISH
BEGIN:VEVENT
DTSTAMP:20260424T172644
CREATED:20231018T170620
UID:1777051604.0.30541500-101801@statistik.d-u-v.org
SUMMARY:Losheimer Trailfest T45
DESCRIPTION: Losheimer Trailfest T45\n
  Hendrik Dörr\n
  info[at]hartfuesslertrail.de
DTSTART:20240629T090000
DTEND:00000000T235900
LOCATION:Losheim am See\, GER
URL:http://trailfest.de
CATEGORIES:Ultramarathon
CONTACT:Hendrik Dörr
CLASS:PUBLIC
PRIORITY:5
TRANSP:OPAQUE
END:VEVENT
END:VCALENDAR
