BEGIN:VCALENDAR
PRODID:-//http://statistik.d-u-v.org//PHP ultracalendar//EN
VERSION:2.0
METHOD:PUBLISH
BEGIN:VEVENT
DTSTAMP:20260419T173538
CREATED:20231018T170120
UID:1776620138.0.88514200-101795@statistik.d-u-v.org
SUMMARY:Lüneburger Heide-Staffellauf und Ultra-Marathon
DESCRIPTION: Lüneburger Heide-Staffellauf und Ultra-Marathon\n
  Rolf Düngefeld / Michael Seeger\n
  info[at]lueneburger-heide-staffellauf.de
DTSTART:20240601T070000
DTEND:00000000T235900
LOCATION:Lüneburg\, GER
URL:http://www.lueneburger-heide-staffellauf.de
CATEGORIES:Ultramarathon
CONTACT:Rolf Düngefeld / Michael Seeger
CLASS:PUBLIC
PRIORITY:5
TRANSP:OPAQUE
END:VEVENT
END:VCALENDAR
