BEGIN:VCALENDAR
PRODID:-//http://statistik.d-u-v.org//PHP ultracalendar//EN
VERSION:2.0
METHOD:PUBLISH
BEGIN:VEVENT
DTSTAMP:20260420T075434
CREATED:20231018T164740
UID:1776671674.0.49113800-101784@statistik.d-u-v.org
SUMMARY:Biber Backyard Ultra
DESCRIPTION: Biber Backyard Ultra\n
  Michael Schlamann\n
  biberbackyard[at]gmail.com
DTSTART:20240608T080000
DTEND:00000000T235900
LOCATION:Simmerath Lammersdorf\, GER
URL:https://www.biberbackyardultra.de/
CATEGORIES:Ultramarathon
CONTACT:Michael Schlamann
CLASS:PUBLIC
PRIORITY:5
TRANSP:OPAQUE
END:VEVENT
END:VCALENDAR
