BEGIN:VCALENDAR
PRODID:-//http://statistik.d-u-v.org//PHP ultracalendar//EN
VERSION:2.0
METHOD:PUBLISH
BEGIN:VEVENT
DTSTAMP:20260419T233232
CREATED:20231018T105618
UID:1776641552.0.82635900-101754@statistik.d-u-v.org
SUMMARY:Brookfield Classic
DESCRIPTION: Brookfield Classic\n
  \n
  
DTSTART:20240914T060000
DTEND:00000000T235900
LOCATION:Brookfield, NY\, USA
URL:https://www.co-movement.com/brookfieldclassic
CATEGORIES:Ultramarathon
CONTACT:
CLASS:PUBLIC
PRIORITY:5
TRANSP:OPAQUE
END:VEVENT
END:VCALENDAR
