BEGIN:VCALENDAR
PRODID:-//http://statistik.d-u-v.org//PHP ultracalendar//EN
VERSION:2.0
METHOD:PUBLISH
BEGIN:VEVENT
DTSTAMP:20260420T045945
CREATED:20231016T073554
UID:1776661185.0.51333300-101713@statistik.d-u-v.org
SUMMARY:Sole Survivor Backyard Ultra
DESCRIPTION: Sole Survivor Backyard Ultra\n
  \n
  jasonreathaford[at]gmail.com
DTSTART:20230915T080000
DTEND:20230916T130000
LOCATION:Richland, WA\, USA
URL:https://sites.google.com/view/ntrew/home
CATEGORIES:Ultramarathon
CONTACT:
CLASS:PUBLIC
PRIORITY:5
TRANSP:OPAQUE
END:VEVENT
END:VCALENDAR
