BEGIN:VCALENDAR
PRODID:-//http://statistik.d-u-v.org//PHP ultracalendar//EN
VERSION:2.0
METHOD:PUBLISH
BEGIN:VEVENT
DTSTAMP:20260419T213513
CREATED:20231015T174350
UID:1776634513.0.16172700-101699@statistik.d-u-v.org
SUMMARY:Iron Will 50 Km
DESCRIPTION: Iron Will 50 Km\n
  \n
  
DTSTART:20230909T000000
DTEND:00000000T235900
LOCATION:Junction City, KS\, USA
URL:https://www.facebook.com/groups/1216653145494476/?ref=share_group_link&exp=8ce3
CATEGORIES:Ultramarathon
CONTACT:
CLASS:PUBLIC
PRIORITY:5
TRANSP:OPAQUE
END:VEVENT
END:VCALENDAR
