BEGIN:VCALENDAR
PRODID:-//http://statistik.d-u-v.org//PHP ultracalendar//EN
VERSION:2.0
METHOD:PUBLISH
BEGIN:VEVENT
DTSTAMP:20260423T022649
CREATED:20231015T075448
UID:1776911209.0.33888800-101674@statistik.d-u-v.org
SUMMARY:Superior Fall Trail Races  50 Mile
DESCRIPTION: Superior Fall Trail Races  50 Mile\n
  Larry Pederson\n
  racedirector[at]superiortrailrace.com
DTSTART:20240907T060000
DTEND:00000000T235900
LOCATION:Finland, MN\, USA
URL:http://www.superiortrailrace.com/
CATEGORIES:Ultramarathon
CONTACT:Larry Pederson
CLASS:PUBLIC
PRIORITY:5
TRANSP:OPAQUE
END:VEVENT
END:VCALENDAR
