BEGIN:VCALENDAR
PRODID:-//http://statistik.d-u-v.org//PHP ultracalendar//EN
VERSION:2.0
METHOD:PUBLISH
BEGIN:VEVENT
DTSTAMP:20260419T192442
CREATED:20231014T120602
UID:1776626682.0.79006800-101617@statistik.d-u-v.org
SUMMARY:Almaden Hills Trail Run - Fall
DESCRIPTION: Almaden Hills Trail Run - Fall\n
  \n
  team[at]tctruns.com
DTSTART:20241102T080000
DTEND:00000000T235900
LOCATION:San Jose, CA\, USA
URL:https://ultrasignup.com/register.aspx?did=89646
CATEGORIES:Ultramarathon
CONTACT:
CLASS:PUBLIC
PRIORITY:5
TRANSP:OPAQUE
END:VEVENT
END:VCALENDAR
