BEGIN:VCALENDAR
PRODID:-//http://statistik.d-u-v.org//PHP ultracalendar//EN
VERSION:2.0
METHOD:PUBLISH
BEGIN:VEVENT
DTSTAMP:20260423T025027
CREATED:20241105T230902
UID:1776912627.0.63593900-101601@statistik.d-u-v.org
SUMMARY:Medunarodni 50km ultramaraton
DESCRIPTION: Medunarodni 50km ultramaraton\n
  Elvira Janoši\n
  ultramaratonpalic[at]gmail.com
DTSTART:20250601T060000
DTEND:00000000T235900
LOCATION:Palic\, SRB
URL:https://www.usspalic.org/
CATEGORIES:Ultramarathon
CONTACT:Elvira Janoši
CLASS:PUBLIC
PRIORITY:5
TRANSP:OPAQUE
END:VEVENT
END:VCALENDAR
