BEGIN:VCALENDAR
PRODID:-//http://statistik.d-u-v.org//PHP ultracalendar//EN
VERSION:2.0
METHOD:PUBLISH
BEGIN:VEVENT
DTSTAMP:20260423T002757
CREATED:20241105T230902
UID:1776904077.0.69013600-101599@statistik.d-u-v.org
SUMMARY:Medunarodni 100km ultramaraton
DESCRIPTION: Medunarodni 100km ultramaraton\n
  Elvira Janoši\n
  ultramaratonpalic[at]gmail.com
DTSTART:20250601T000000
DTEND:00000000T235900
LOCATION:Palic\, SRB
URL:https://www.usspalic.org/
CATEGORIES:Ultramarathon
CONTACT:Elvira Janoši
CLASS:PUBLIC
PRIORITY:5
TRANSP:OPAQUE
END:VEVENT
END:VCALENDAR
