BEGIN:VCALENDAR
PRODID:-//http://statistik.d-u-v.org//PHP ultracalendar//EN
VERSION:2.0
METHOD:PUBLISH
BEGIN:VEVENT
DTSTAMP:20260422T202704
CREATED:20231012T172724
UID:1776889624.0.46080200-101564@statistik.d-u-v.org
SUMMARY:Backyard Ultra Radomsko
DESCRIPTION: Backyard Ultra Radomsko\n
  Piotr Kuśmierczyk\n
  ultraradomsko[at]wp.pl
DTSTART:20230825T120000
DTEND:20230827T235900
LOCATION:Radomsko\, POL
URL:https://www.facebook.com/p/Backyard-Ultra-Radomsko-100089002574286/
CATEGORIES:Ultramarathon
CONTACT:Piotr Kuśmierczyk
CLASS:PUBLIC
PRIORITY:5
TRANSP:OPAQUE
END:VEVENT
END:VCALENDAR
