BEGIN:VCALENDAR
PRODID:-//http://statistik.d-u-v.org//PHP ultracalendar//EN
VERSION:2.0
METHOD:PUBLISH
BEGIN:VEVENT
DTSTAMP:20260419T200418
CREATED:20231012T210357
UID:1776629058.0.21969500-101554@statistik.d-u-v.org
SUMMARY:Australian 6 day - 24h
DESCRIPTION: Australian 6 day - 24h\n
  Race Director: Justin Brock\n
  justin.brock1975[at]gmail.com
DTSTART:20231006T100000
DTEND:20231007T100000
LOCATION:Adelaide, SA\, AUS
URL:https://australian6day.com.au/
CATEGORIES:Ultramarathon
CONTACT:Race Director: Justin Brock
CLASS:PUBLIC
PRIORITY:5
TRANSP:OPAQUE
END:VEVENT
END:VCALENDAR
