BEGIN:VCALENDAR
PRODID:-//http://statistik.d-u-v.org//PHP ultracalendar//EN
VERSION:2.0
METHOD:PUBLISH
BEGIN:VEVENT
DTSTAMP:20260424T201145
CREATED:20231008T200435
UID:1777061505.0.21722300-101477@statistik.d-u-v.org
SUMMARY:Adamello Ultra Trail 170 km
DESCRIPTION: Adamello Ultra Trail 170 km\n
  \n
  info[at]adamelloultratrail.it
DTSTART:20230929T090000
DTEND:20231001T140000
LOCATION:Vezza d'Oglio (BS)\, ITA
URL:http://www.adamelloultratrail.it/
CATEGORIES:Ultramarathon
CONTACT:
CLASS:PUBLIC
PRIORITY:5
TRANSP:OPAQUE
END:VEVENT
END:VCALENDAR
