BEGIN:VCALENDAR
PRODID:-//http://statistik.d-u-v.org//PHP ultracalendar//EN
VERSION:2.0
METHOD:PUBLISH
BEGIN:VEVENT
DTSTAMP:20260423T221021
CREATED:20231006T181140
UID:1776982221.0.79869100-101451@statistik.d-u-v.org
SUMMARY:Ultra trail Harricana de Charlevoix 65 Km
DESCRIPTION: Ultra trail Harricana de Charlevoix 65 Km\n
  \n
  info[at]harricana.info
DTSTART:20240907T063000
DTEND:00000000T235900
LOCATION:La Malbaie, QC\, CAN
URL:http://harricana.info/en
CATEGORIES:Ultramarathon
CONTACT:
CLASS:PUBLIC
PRIORITY:5
TRANSP:OPAQUE
END:VEVENT
END:VCALENDAR
