BEGIN:VCALENDAR
PRODID:-//http://statistik.d-u-v.org//PHP ultracalendar//EN
VERSION:2.0
METHOD:PUBLISH
BEGIN:VEVENT
DTSTAMP:20260422T232623
CREATED:20070526T000000
UID:1776900383.0.89789100-1014@statistik.d-u-v.org
SUMMARY:12h Kirov
DESCRIPTION: 12h Kirov\n
  \n
  
DTSTART:20070223T000000
DTEND:20070224T235900
LOCATION:Kirov\, RUS
URL:
CATEGORIES:Ultramarathon
CONTACT:
CLASS:PUBLIC
PRIORITY:5
TRANSP:OPAQUE
END:VEVENT
END:VCALENDAR
