BEGIN:VCALENDAR
PRODID:-//http://statistik.d-u-v.org//PHP ultracalendar//EN
VERSION:2.0
METHOD:PUBLISH
BEGIN:VEVENT
DTSTAMP:20260420T012843
CREATED:20231003T112615
UID:1776648523.0.30600000-101338@statistik.d-u-v.org
SUMMARY:La Transtica - Course Extreme
DESCRIPTION: La Transtica - Course Extreme\n
  \n
  
DTSTART:20231124T200000
DTEND:20231130T235900
LOCATION:San Jose, Costa Rica\, CRC
URL:https://itra.run/Races/RaceDetails/Costa.Rica.Trail.La.Transtica...Extreme/2023/84666
CATEGORIES:Ultramarathon
CONTACT:
CLASS:PUBLIC
PRIORITY:5
TRANSP:OPAQUE
END:VEVENT
END:VCALENDAR
