BEGIN:VCALENDAR
PRODID:-//http://statistik.d-u-v.org//PHP ultracalendar//EN
VERSION:2.0
METHOD:PUBLISH
BEGIN:VEVENT
DTSTAMP:20260422T221359
CREATED:20110217T180718
UID:1776896039.0.59106800-10129@statistik.d-u-v.org
SUMMARY:6h Caboolture Historical Village Dusk to Midnight
DESCRIPTION: 6h Caboolture Historical Village Dusk to Midnight\n
  \n
  
DTSTART:20000204T000000
DTEND:00000000T235900
LOCATION:Caboolture, QLD\, AUS
URL:
CATEGORIES:Ultramarathon
CONTACT:
CLASS:PUBLIC
PRIORITY:5
TRANSP:OPAQUE
END:VEVENT
END:VCALENDAR
