BEGIN:VCALENDAR
PRODID:-//http://statistik.d-u-v.org//PHP ultracalendar//EN
VERSION:2.0
METHOD:PUBLISH
BEGIN:VEVENT
DTSTAMP:20260422T164648
CREATED:20230927T143202
UID:1776876408.0.92035700-101195@statistik.d-u-v.org
SUMMARY:4. DeutschLandLauf 2023 - Etappe 8 - Celle-Wolfenbüttel
DESCRIPTION: 4. DeutschLandLauf 2023 - Etappe 8 - Celle-Wolfenbüttel\n
  \n
  
DTSTART:20230902T000000
DTEND:00000000T235900
LOCATION:Celle\, GER
URL:https://deutschlandlauf.wordpress.com/
CATEGORIES:Ultramarathon
CONTACT:
CLASS:PUBLIC
PRIORITY:5
TRANSP:OPAQUE
END:VEVENT
END:VCALENDAR
