BEGIN:VCALENDAR
PRODID:-//http://statistik.d-u-v.org//PHP ultracalendar//EN
VERSION:2.0
METHOD:PUBLISH
BEGIN:VEVENT
DTSTAMP:20260423T215721
CREATED:20230923T111558
UID:1776981441.0.89919700-101112@statistik.d-u-v.org
SUMMARY:Ultra de Ultras Meta (Seguro) 3
DESCRIPTION: Ultra de Ultras Meta (Seguro) 3\n
  \n
  
DTSTART:20191011T200000
DTEND:20191013T180000
LOCATION:Cundinamarca\, COL
URL:https://itra.run/Races/RaceDetails/ULTRA.DE.ULTRAS..Meta.2.Ultra.de.Ultras/2019/50025
CATEGORIES:Ultramarathon
CONTACT:
CLASS:PUBLIC
PRIORITY:5
TRANSP:OPAQUE
END:VEVENT
END:VCALENDAR
