BEGIN:VCALENDAR
PRODID:-//http://statistik.d-u-v.org//PHP ultracalendar//EN
VERSION:2.0
METHOD:PUBLISH
BEGIN:VEVENT
DTSTAMP:20260425T175923
CREATED:20230923T095006
UID:1777139963.0.94636100-101102@statistik.d-u-v.org
SUMMARY:El Cañi Ultra Trail
DESCRIPTION: El Cañi Ultra Trail\n
  \n
  
DTSTART:20200314T050000
DTEND:00000000T235900
LOCATION:Pucon\, CHI
URL:https://itra.run/Races/RaceDetails/El.Ca%C3%B1i.Ultra.Trail..50k.El.Ca%C3%B1i.Ultra.Trail./2020/62381
CATEGORIES:Ultramarathon
CONTACT:
CLASS:PUBLIC
PRIORITY:5
TRANSP:OPAQUE
END:VEVENT
END:VCALENDAR
