BEGIN:VCALENDAR
PRODID:-//http://statistik.d-u-v.org//PHP ultracalendar//EN
VERSION:2.0
METHOD:PUBLISH
BEGIN:VEVENT
DTSTAMP:20260422T195130
CREATED:20230920T054754
UID:1776887490.0.70746700-101021@statistik.d-u-v.org
SUMMARY:Firebird 50km Trail Race
DESCRIPTION: Firebird 50km Trail Race\n
  \n
  
DTSTART:20240824T070000
DTEND:00000000T235900
LOCATION:Windham, ME\, USA
URL:https://www.facebook.com/Firebird50Race/
CATEGORIES:Ultramarathon
CONTACT:
CLASS:PUBLIC
PRIORITY:5
TRANSP:OPAQUE
END:VEVENT
END:VCALENDAR
