BEGIN:VCALENDAR
PRODID:-//http://statistik.d-u-v.org//PHP ultracalendar//EN
VERSION:2.0
METHOD:PUBLISH
BEGIN:VEVENT
DTSTAMP:20260423T070116
CREATED:20230919T085210
UID:1776927676.0.58819100-100951@statistik.d-u-v.org
SUMMARY:Race to the King  100k
DESCRIPTION: Race to the King  100k\n
  Ed Scott\n
  info[at]racetotheking.com
DTSTART:20240615T000000
DTEND:20240616T235900
LOCATION:Goodwood\, GBR
URL:https://www.thresholdtrailseries.com/events/race-to-the-king/
CATEGORIES:Ultramarathon
CONTACT:Ed Scott
CLASS:PUBLIC
PRIORITY:5
TRANSP:OPAQUE
END:VEVENT
END:VCALENDAR
