BEGIN:VCALENDAR
PRODID:-//http://statistik.d-u-v.org//PHP ultracalendar//EN
VERSION:2.0
METHOD:PUBLISH
BEGIN:VEVENT
DTSTAMP:20260422T222533
CREATED:20110212T180833
UID:1776896733.0.72194800-10088@statistik.d-u-v.org
SUMMARY:Resurrection Pass 100 Mile Ultra Trail Race
DESCRIPTION: Resurrection Pass 100 Mile Ultra Trail Race\n
  \n
  katpat[at]alaska.net; prichter[at]pobox.alaska.net
DTSTART:20080801T150000
DTEND:20080802T235900
LOCATION:Hope, AK\, USA
URL:http://www.respassultras.org/
CATEGORIES:Ultramarathon
CONTACT:
CLASS:PUBLIC
PRIORITY:5
TRANSP:OPAQUE
END:VEVENT
END:VCALENDAR
