BEGIN:VCALENDAR
PRODID:-//http://statistik.d-u-v.org//PHP ultracalendar//EN
VERSION:2.0
METHOD:PUBLISH
BEGIN:VEVENT
DTSTAMP:20260422T231435
CREATED:20230917T051116
UID:1776899675.0.36766300-100850@statistik.d-u-v.org
SUMMARY:Dark Divide 100 Mile Race
DESCRIPTION: Dark Divide 100 Mile Race\n
  \n
  
DTSTART:20240802T000000
DTEND:20240803T235900
LOCATION:Randle, WA\, USA
URL:https://www.wonderlandrunning.com/dark-divide/
CATEGORIES:Ultramarathon
CONTACT:
CLASS:PUBLIC
PRIORITY:5
TRANSP:OPAQUE
END:VEVENT
END:VCALENDAR
