BEGIN:VCALENDAR
PRODID:-//http://statistik.d-u-v.org//PHP ultracalendar//EN
VERSION:2.0
METHOD:PUBLISH
BEGIN:VEVENT
DTSTAMP:20260419T233207
CREATED:20230915T131234
UID:1776641527.0.08095800-100798@statistik.d-u-v.org
SUMMARY:Mayrhofen Ultraks Zillertal - TUX070
DESCRIPTION: Mayrhofen Ultraks Zillertal - TUX070\n
  \n
  mayrhofen[at]ultraks.com
DTSTART:20240907T053000
DTEND:00000000T235900
LOCATION:Mayrhofen\, AUT
URL:http://mayrhofen.ultraks.com
CATEGORIES:Ultramarathon
CONTACT:
CLASS:PUBLIC
PRIORITY:5
TRANSP:OPAQUE
END:VEVENT
END:VCALENDAR
