BEGIN:VCALENDAR
PRODID:-//http://statistik.d-u-v.org//PHP ultracalendar//EN
VERSION:2.0
METHOD:PUBLISH
BEGIN:VEVENT
DTSTAMP:20260419T202910
CREATED:20230905T174413
UID:1776630550.0.16925500-100658@statistik.d-u-v.org
SUMMARY:Sillamäe Ultra - 100km
DESCRIPTION: Sillamäe Ultra - 100km\n
  Aet Kiisla\n
  pillevennik[at]gmail.com;aet.kiisla[at]gmail.com
DTSTART:20230826T150000
DTEND:00000000T235900
LOCATION:Sillamäe\, EST
URL:https://ultrajooksja.ee/sillamae-ultra-2023-guide/
CATEGORIES:Ultramarathon
CONTACT:Aet Kiisla
CLASS:PUBLIC
PRIORITY:5
TRANSP:OPAQUE
END:VEVENT
END:VCALENDAR
