BEGIN:VCALENDAR
PRODID:-//http://statistik.d-u-v.org//PHP ultracalendar//EN
VERSION:2.0
METHOD:PUBLISH
BEGIN:VEVENT
DTSTAMP:20260419T170255
CREATED:20230831T001313
UID:1776618175.0.60839600-100583@statistik.d-u-v.org
SUMMARY:Werderseelauf - offener Lauf
DESCRIPTION: Werderseelauf - offener Lauf\n
  Thomas Hendrik Adick\n
  
DTSTART:20240317T084500
DTEND:00000000T235900
LOCATION:Bremen\, GER
URL:https://werderseelauf.de/
CATEGORIES:Ultramarathon
CONTACT:Thomas Hendrik Adick
CLASS:PUBLIC
PRIORITY:5
TRANSP:OPAQUE
END:VEVENT
END:VCALENDAR
