BEGIN:VCALENDAR
PRODID:-//http://statistik.d-u-v.org//PHP ultracalendar//EN
VERSION:2.0
METHOD:PUBLISH
BEGIN:VEVENT
DTSTAMP:20260420T024726
CREATED:20230828T135309
UID:1776653246.0.16636800-100541@statistik.d-u-v.org
SUMMARY:Robin Hood 100
DESCRIPTION: Robin Hood 100\n
  Ronnie Staton\n
  ronnie[at]hobopace.co.uk
DTSTART:20240921T080000
DTEND:20240922T235900
LOCATION:South Wheatley\, GBR
URL:http://www.hobopace.co.uk
CATEGORIES:Ultramarathon
CONTACT:Ronnie Staton
CLASS:PUBLIC
PRIORITY:5
TRANSP:OPAQUE
END:VEVENT
END:VCALENDAR
