BEGIN:VCALENDAR
PRODID:-//http://statistik.d-u-v.org//PHP ultracalendar//EN
VERSION:2.0
METHOD:PUBLISH
BEGIN:VEVENT
DTSTAMP:20260422T175642
CREATED:20230828T093307
UID:1776880602.0.90971200-100524@statistik.d-u-v.org
SUMMARY:Lake District Grand Tour 400km
DESCRIPTION: Lake District Grand Tour 400km\n
  \n
  
DTSTART:20230918T000000
DTEND:20230924T235900
LOCATION:Keswick\, GBR
URL:https://www.ldgt.co.uk/
CATEGORIES:Ultramarathon
CONTACT:
CLASS:PUBLIC
PRIORITY:5
TRANSP:OPAQUE
END:VEVENT
END:VCALENDAR
