BEGIN:VCALENDAR
PRODID:-//http://statistik.d-u-v.org//PHP ultracalendar//EN
VERSION:2.0
METHOD:PUBLISH
BEGIN:VEVENT
DTSTAMP:20260419T211122
CREATED:20230827T122513
UID:1776633082.0.47584200-100502@statistik.d-u-v.org
SUMMARY:Monschau-Ultra Marathon
DESCRIPTION: Monschau-Ultra Marathon\n
  Helmut Hoff\n
  info[at]monschau-marathon.de
DTSTART:20240811T060000
DTEND:00000000T235900
LOCATION:Monschau/Konzen\, GER
URL:http://www.monschau-marathon.de
CATEGORIES:Ultramarathon
CONTACT:Helmut Hoff
CLASS:PUBLIC
PRIORITY:5
TRANSP:OPAQUE
END:VEVENT
END:VCALENDAR
