BEGIN:VCALENDAR
PRODID:-//http://statistik.d-u-v.org//PHP ultracalendar//EN
VERSION:2.0
METHOD:PUBLISH
BEGIN:VEVENT
DTSTAMP:20260423T062910
CREATED:20230824T134247
UID:1776925750.0.25401700-100417@statistik.d-u-v.org
SUMMARY:800 Heroes - Overlord of  Windy City 101Km
DESCRIPTION: 800 Heroes - Overlord of  Windy City 101Km\n
  \n
  
DTSTART:20241006T053000
DTEND:00000000T235900
LOCATION:Nanzhuang Township\, TPE
URL:https://www.beclass.com/rid=274b1d56488387435b11
CATEGORIES:Ultramarathon
CONTACT:
CLASS:PUBLIC
PRIORITY:5
TRANSP:OPAQUE
END:VEVENT
END:VCALENDAR
