BEGIN:VCALENDAR
PRODID:-//http://statistik.d-u-v.org//PHP ultracalendar//EN
VERSION:2.0
METHOD:PUBLISH
BEGIN:VEVENT
DTSTAMP:20260423T145000
CREATED:20230824T074508
UID:1776955800.0.58804800-100372@statistik.d-u-v.org
SUMMARY:Teton Mountain Runs Cody Peak 50K
DESCRIPTION: Teton Mountain Runs Cody Peak 50K\n
  Casey Jermyn\n
  casey[at]bozemanrunningcompany.com
DTSTART:20240714T060000
DTEND:00000000T235900
LOCATION:Teton Village, WY\, USA
URL:https://www.tetonmountainruns.com/cody-peak-50k.html#/
CATEGORIES:Ultramarathon
CONTACT:Casey Jermyn
CLASS:PUBLIC
PRIORITY:5
TRANSP:OPAQUE
END:VEVENT
END:VCALENDAR
