BEGIN:VCALENDAR
PRODID:-//http://statistik.d-u-v.org//PHP ultracalendar//EN
VERSION:2.0
METHOD:PUBLISH
BEGIN:VEVENT
DTSTAMP:20260419T210246
CREATED:20110204T162954
UID:1776632566.0.68265800-10029@statistik.d-u-v.org
SUMMARY:The Bear Chase 50 Mile
DESCRIPTION: The Bear Chase 50 Mile\n
  Race Director David Manthey\n
  Coach[at]RunnersEdgeoftheRockies.com
DTSTART:20110925T063000
DTEND:00000000T235900
LOCATION:Lakewood, CO\, USA
URL:http://www.bearchaserace.com/
CATEGORIES:Ultramarathon
CONTACT:Race Director David Manthey
CLASS:PUBLIC
PRIORITY:5
TRANSP:OPAQUE
END:VEVENT
END:VCALENDAR
