BEGIN:VCALENDAR
PRODID:-//http://statistik.d-u-v.org//PHP ultracalendar//EN
VERSION:2.0
METHOD:PUBLISH
BEGIN:VEVENT
DTSTAMP:20260419T234443
CREATED:20230820T155632
UID:1776642283.0.80849900-100256@statistik.d-u-v.org
SUMMARY:Jubiläumslauf Schönebeck 1. Etappe
DESCRIPTION: Jubiläumslauf Schönebeck 1. Etappe\n
  Thomas Dornburg\n
  thomas[at]neckarlauf.com
DTSTART:20230818T070000
DTEND:00000000T235900
LOCATION:Freudenstadt\, GER
URL:https://www.neckarlauf.com/jubil-umslauf-sch-nebeck.html
CATEGORIES:Ultramarathon
CONTACT:Thomas Dornburg
CLASS:PUBLIC
PRIORITY:5
TRANSP:OPAQUE
END:VEVENT
END:VCALENDAR
