BEGIN:VCALENDAR
PRODID:-//http://statistik.d-u-v.org//PHP ultracalendar//EN
VERSION:2.0
METHOD:PUBLISH
BEGIN:VEVENT
DTSTAMP:20260419T220824
CREATED:20230814T215956
UID:1776636504.0.91335400-100198@statistik.d-u-v.org
SUMMARY:Euchidios Athlos Delphi-Plataea
DESCRIPTION: Euchidios Athlos Delphi-Plataea\n
  Ritsa Antonopoulou\n
  euchidiosathlos[at]yahoo.gr; info[at]euchidiosathlos.gr
DTSTART:20040731T000000
DTEND:20040801T235900
LOCATION:Delphi\, GRE
URL:http://www.euchidiosathlos.gr/
CATEGORIES:Ultramarathon
CONTACT:Ritsa Antonopoulou
CLASS:PUBLIC
PRIORITY:5
TRANSP:OPAQUE
END:VEVENT
END:VCALENDAR
