BEGIN:VCALENDAR
PRODID:-//http://statistik.d-u-v.org//PHP ultracalendar//EN
VERSION:2.0
METHOD:PUBLISH
BEGIN:VEVENT
DTSTAMP:20260419T183221
CREATED:20230806T145200
UID:1776623541.0.98386700-100052@statistik.d-u-v.org
SUMMARY:3 x Kopa - Ultramaraton Górski
DESCRIPTION: 3 x Kopa - Ultramaraton Górski\n
  \n
  info[at]biegopolski.pl
DTSTART:20230422T080000
DTEND:00000000T235900
LOCATION:Pokrzywna\, POL
URL:https://3xkopa.pl/
CATEGORIES:Ultramarathon
CONTACT:
CLASS:PUBLIC
PRIORITY:5
TRANSP:OPAQUE
END:VEVENT
END:VCALENDAR
